BEGIN:VCALENDAR
VERSION:2.0
PRODID:SchoolNow
CALSCALE:GREGORIAN
BEGIN:VEVENT
UID:a572e9d8-c577-11f0-8508-0a58a9feac02
DTSTAMP:20260413T163038Z
SUMMARY:CDD Board Meeting - Oct. 2025
LOCATION:The Offices of Inframark located at 2005 Pan Am Circle\, Suite 300
 \, Tampa\, FL 33607
URL;VALUE=URI:https://www.northparkislecdd.com/calendar/8803822/cdd-board-m
 eeting-oct-2025
DTSTART:20251002T180000Z
DTEND:20251002T190000Z
ATTACH;FILENAME=2025-10-02 North Park Isle Meeting Book.pdf;FMTTYPE=applica
 tion/pdf:https://campussuite-storage.s3.amazonaws.com/prod/1559306/58b9bfb
 2-bb14-11f0-ba7a-0a58a9feac02/3088589/95478716-373d-11f1-9656-0e19a9c413cb
 /file/2025-10-02 North Park Isle Meeting Book.pdf
END:VEVENT
END:VCALENDAR
