BEGIN:VCALENDAR
VERSION:2.0
PRODID:SchoolNow
CALSCALE:GREGORIAN
BEGIN:VEVENT
UID:dd0d519e-c577-11f0-ab5c-0e924e89945b
DTSTAMP:20260413T163637Z
SUMMARY:CDD Board Meeting - Dec. 2025
LOCATION:The Seminole Heights Branch Library - 4711 N Central Ave\, Tampa\,
  FL 33603
URL;VALUE=URI:https://www.northparkislecdd.com/calendar/8803824/cdd-board-m
 eeting-dec-2025
DTSTART:20251211T190000Z
DTEND:20251211T200000Z
ATTACH;FILENAME=2025-12-11 North Park Isle Meeting Book.pdf;FMTTYPE=applica
 tion/pdf:https://campussuite-storage.s3.amazonaws.com/prod/1559306/58b9bfb
 2-bb14-11f0-ba7a-0a58a9feac02/3088591/9547c29e-373d-11f1-89d3-0e19a9c413cb
 /file/2025-12-11 North Park Isle Meeting Book.pdf
END:VEVENT
END:VCALENDAR
