BEGIN:VCALENDAR
VERSION:2.0
PRODID:SchoolNow
CALSCALE:GREGORIAN
BEGIN:VEVENT
UID:e716e182-c577-11f0-9be5-0affe72d166b
DTSTAMP:20260413T121456Z
SUMMARY:CDD Board Meeting - Jan. 2026
LOCATION:The Offices of Inframark located at 2005 Pan Am Circle\, Suite 300
 \, Tampa\, FL 33607
URL;VALUE=URI:https://www.northparkislecdd.com/calendar/8803825/cdd-board-m
 eeting-jan-2026
DTSTART:20260108T190000Z
DTEND:20260108T200000Z
END:VEVENT
END:VCALENDAR
