BEGIN:VCALENDAR
VERSION:2.0
PRODID:SchoolNow
CALSCALE:GREGORIAN
BEGIN:VEVENT
UID:ef9c3622-c577-11f0-90c9-02ea71babd91
DTSTAMP:20260413T162450Z
SUMMARY:CDD Board Meeting - Feb. 2026
LOCATION:the Offices of Inframark located at 2005 Pan Am Circle\, Suite 300
 \, Tampa\, FL 33607
URL;VALUE=URI:https://www.northparkislecdd.com/calendar/8803826/cdd-board-m
 eeting-feb-2026
DTSTART:20260205T190000Z
DTEND:20260205T200000Z
ATTACH;FILENAME=2026-02-05 North Park Isle Meeting Book.pdf;FMTTYPE=applica
 tion/pdf:https://campussuite-storage.s3.amazonaws.com/prod/1559306/58b9bfb
 2-bb14-11f0-ba7a-0a58a9feac02/3088593/9547c500-373d-11f1-99ef-0e19a9c413cb
 /file/2026-02-05 North Park Isle Meeting Book.pdf
END:VEVENT
END:VCALENDAR
