BEGIN:VCALENDAR
VERSION:2.0
PRODID:SchoolNow
CALSCALE:GREGORIAN
BEGIN:VEVENT
UID:fa48abb4-c577-11f0-8a9e-0e23de79efab
DTSTAMP:20260413T162413Z
SUMMARY:CDD Board Meeting - Mar. 2026
LOCATION:the Offices of Inframark located at 2005 Pan Am Circle\, Suite 300
 \, Tampa\, FL 33607
URL;VALUE=URI:https://www.northparkislecdd.com/calendar/8803827/cdd-board-m
 eeting-mar-2026
DTSTART:20260305T190000Z
DTEND:20260305T200000Z
ATTACH;FILENAME=2026-03-05 North Park Isle Meeting Book.pdf;FMTTYPE=applica
 tion/pdf:https://campussuite-storage.s3.amazonaws.com/prod/1559306/58b9bfb
 2-bb14-11f0-ba7a-0a58a9feac02/3088594/9547c604-373d-11f1-97df-0e19a9c413cb
 /file/2026-03-05 North Park Isle Meeting Book.pdf
END:VEVENT
END:VCALENDAR
