BEGIN:VCALENDAR
VERSION:2.0
PRODID:SchoolNow
CALSCALE:GREGORIAN
BEGIN:VEVENT
UID:0406f30e-c578-11f0-883f-02af76d80f6f
DTSTAMP:20260413T162335Z
SUMMARY:CDD Board Meeting - Apr. 2026
LOCATION:The Offices of Inframark located at 2005 Pan Am Circle\, Suite 300
 \, Tampa\, FL 33607
URL;VALUE=URI:https://www.northparkislecdd.com/calendar/8803828/cdd-board-m
 eeting-apr-2026
DTSTART:20260402T180000Z
DTEND:20260402T190000Z
ATTACH;FILENAME=2026-04-02 North Park Isle Meeting Book.pdf;FMTTYPE=applica
 tion/pdf:https://campussuite-storage.s3.amazonaws.com/prod/1559306/58b9bfb
 2-bb14-11f0-ba7a-0a58a9feac02/3088595/9547c6fe-373d-11f1-a1b7-0e19a9c413cb
 /file/2026-04-02 North Park Isle Meeting Book.pdf
END:VEVENT
END:VCALENDAR
