BEGIN:VCALENDAR
VERSION:2.0
PRODID:SchoolNow
CALSCALE:GREGORIAN
BEGIN:VEVENT
UID:18824770-c578-11f0-8122-0a58a9feac02
DTSTAMP:20260413T121223Z
SUMMARY:CDD Board Meeting - Jun. 2026
LOCATION:The Offices of Inframark located at 2005 Pan Am Circle\, Suite 300
 \, Tampa\, FL 33607
URL;VALUE=URI:https://www.northparkislecdd.com/calendar/8803830/cdd-board-m
 eeting-jun-2026
DTSTART:20260604T180000Z
DTEND:20260604T190000Z
END:VEVENT
END:VCALENDAR
