BEGIN:VCALENDAR
VERSION:2.0
PRODID:SchoolNow
CALSCALE:GREGORIAN
BEGIN:VEVENT
UID:2a96e222-c578-11f0-8d5a-0afff9ea838f
DTSTAMP:20260413T163752Z
SUMMARY:CDD Board Meeting (Public Hearing) - Jul. 2026
LOCATION:The Offices of Inframark located at 2005 Pan Am Circle\, Suite 300
 \, Tampa\, FL 33607
URL;VALUE=URI:https://www.northparkislecdd.com/calendar/8803831/cdd-board-m
 eeting-public-hearing-jul-2026
DTSTART:20260702T180000Z
DTEND:20260702T190000Z
END:VEVENT
END:VCALENDAR
