BEGIN:VCALENDAR
VERSION:2.0
PRODID:SchoolNow
CALSCALE:GREGORIAN
BEGIN:VEVENT
UID:3a599cea-c578-11f0-946c-0e23e915d72f
DTSTAMP:20260413T121329Z
SUMMARY:CDD Board Meeting - Aug. 2026
LOCATION:The Offices of Inframark located at 2005 Pan Am Circle\, Suite 300
 \, Tampa\, FL 33607
URL;VALUE=URI:https://www.northparkislecdd.com/calendar/8803832/cdd-board-m
 eeting-aug-2026
DTSTART:20260806T180000Z
DTEND:20260806T190000Z
END:VEVENT
END:VCALENDAR
