BEGIN:VCALENDAR
VERSION:2.0
PRODID:SchoolNow
CALSCALE:GREGORIAN
BEGIN:VEVENT
UID:4437b7f6-c578-11f0-9ea7-0a58a9feac02
DTSTAMP:20260413T121355Z
SUMMARY:CDD Board Meeting - Sept. 2026
LOCATION:The Offices of Inframark located at 2005 Pan Am Circle\, Suite 300
 \, Tampa\, FL 33607
URL;VALUE=URI:https://www.northparkislecdd.com/calendar/8803833/cdd-board-m
 eeting-sept-2026
DTSTART:20260903T180000Z
DTEND:20260903T190000Z
END:VEVENT
END:VCALENDAR
