BEGIN:VCALENDAR
VERSION:2.0
PRODID:SchoolNow
CALSCALE:GREGORIAN
BEGIN:VEVENT
UID:96d6601e-c6f6-11f0-8f8e-0a58a9feac02
DTSTAMP:20260413T163131Z
SUMMARY:CDD Board Meeting - Sept. 2025
LOCATION:The Offices of Inframark located at 2005 Pan Am Circle\, Suite 300
 \, Tampa\, FL 33607
URL;VALUE=URI:https://www.northparkislecdd.com/calendar/8807427/cdd-board-m
 eeting-sept-2025
DTSTART:20250904T180000Z
DTEND:20250904T190000Z
ATTACH;FILENAME=2025-09-04 North Park Isle Meeting Book.pdf;FMTTYPE=applica
 tion/pdf:https://campussuite-storage.s3.amazonaws.com/prod/1559306/58b9bfb
 2-bb14-11f0-ba7a-0a58a9feac02/3088587/1ddab75c-373d-11f1-8f79-0afff4951b29
 /file/2025-09-04 North Park Isle Meeting Book.pdf
END:VEVENT
END:VCALENDAR
