BEGIN:VCALENDAR
VERSION:2.0
PRODID:SchoolNow
CALSCALE:GREGORIAN
BEGIN:VEVENT
UID:7b1863d0-3754-11f1-a3a9-0a58a9feac02
DTSTAMP:20260413T161900Z
SUMMARY:CDD Board Meeting - Jul. 2025
LOCATION:The Offices of Inframark located at 2005 Pan Am Circle\, Suite 300
 \, Tampa\, FL 33607
URL;VALUE=URI:https://www.northparkislecdd.com/calendar/8990845/cdd-board-m
 eeting-jul-2025
DTSTART:20250710T180000Z
DTEND:20250710T190000Z
ATTACH;FILENAME=2025-07-10 North Park Isle Meeting Book.pdf;FMTTYPE=applica
 tion/pdf:https://campussuite-storage.s3.amazonaws.com/prod/1559306/58b9bfb
 2-bb14-11f0-ba7a-0a58a9feac02/3088585/1ddab586-373d-11f1-bd1c-0afff4951b29
 /file/2025-07-10 North Park Isle Meeting Book.pdf
END:VEVENT
END:VCALENDAR
