BEGIN:VCALENDAR
VERSION:2.0
PRODID:SchoolNow
CALSCALE:GREGORIAN
BEGIN:VEVENT
UID:9e1b43c0-3754-11f1-86db-0a58a9feac02
DTSTAMP:20260413T162119Z
SUMMARY:CDD Board Meeting - Jun. 2025
LOCATION:The Offices of Inframark located at 2005 Pan Am Circle\, Suite 300
 \, Tampa\, FL 33607
URL;VALUE=URI:https://www.northparkislecdd.com/calendar/8990846/cdd-board-m
 eeting-jun-2025
DTSTART:20250605T180000Z
DTEND:20250605T190000Z
ATTACH;FILENAME=2025-06-05 - North Park Isle Meeting Book.pdf;FMTTYPE=appli
 cation/pdf:https://campussuite-storage.s3.amazonaws.com/prod/1559306/58b9b
 fb2-bb14-11f0-ba7a-0a58a9feac02/3039469/b532bea2-c3d3-11f0-928d-0affc38c0b
 45/file/2025-06-05 - North Park Isle Meeting Book.pdf
END:VEVENT
END:VCALENDAR
