BEGIN:VCALENDAR
VERSION:2.0
PRODID:SchoolNow
CALSCALE:GREGORIAN
BEGIN:VEVENT
UID:c583bd48-3754-11f1-b7f7-0ed334700af9
DTSTAMP:20260413T162105Z
SUMMARY:CDD Board Meeting - May 2025
LOCATION:The Offices of Inframark located at 2005 Pan Am Circle\, Suite 300
 \, Tampa\, FL 33607
URL;VALUE=URI:https://www.northparkislecdd.com/calendar/8990847/cdd-board-m
 eeting-may-2025
DTSTART:20250501T180000Z
DTEND:20250501T190000Z
ATTACH;FILENAME=2025-05-01 North Park Isle Meeting Book.pdf;FMTTYPE=applica
 tion/pdf:https://campussuite-storage.s3.amazonaws.com/prod/1559306/58b9bfb
 2-bb14-11f0-ba7a-0a58a9feac02/3088583/1ddab392-373d-11f1-82d1-0afff4951b29
 /file/2025-05-01 North Park Isle Meeting Book.pdf
END:VEVENT
END:VCALENDAR
