BEGIN:VCALENDAR
VERSION:2.0
PRODID:SchoolNow
CALSCALE:GREGORIAN
BEGIN:VEVENT
UID:bf679982-3756-11f1-b46f-0a58a9feac02
DTSTAMP:20260413T163514Z
SUMMARY:CDD Board Meeting - Jan. 22\, 2026
LOCATION:The Marriott Tampa Westshore - 1001 N Westshore Blvd\, Tampa\, FL 
 33607
URL;VALUE=URI:https://www.northparkislecdd.com/calendar/8990854/cdd-board-m
 eeting-jan-2026-clone
DTSTART:20260122T190000Z
DTEND:20260122T200000Z
ATTACH;FILENAME=2026-01-22 North Park Isle Meeting Book.pdf;FMTTYPE=applica
 tion/pdf:https://campussuite-storage.s3.amazonaws.com/prod/1559306/58b9bfb
 2-bb14-11f0-ba7a-0a58a9feac02/3088592/9547c3e8-373d-11f1-8a10-0e19a9c413cb
 /file/2026-01-22 North Park Isle Meeting Book.pdf
END:VEVENT
END:VCALENDAR
